BEGIN:VCALENDAR
VERSION:2.0
PRODID:-//Westham Trade - ECPv6.15.20//NONSGML v1.0//EN
CALSCALE:GREGORIAN
METHOD:PUBLISH
X-ORIGINAL-URL:https://www.wtrade.com
X-WR-CALDESC:Events for Westham Trade
REFRESH-INTERVAL;VALUE=DURATION:PT1H
X-Robots-Tag:noindex
X-PUBLISHED-TTL:PT1H
BEGIN:VTIMEZONE
TZID:America/New_York
BEGIN:DAYLIGHT
TZOFFSETFROM:-0500
TZOFFSETTO:-0400
TZNAME:EDT
DTSTART:20230312T070000
END:DAYLIGHT
BEGIN:STANDARD
TZOFFSETFROM:-0400
TZOFFSETTO:-0500
TZNAME:EST
DTSTART:20231105T060000
END:STANDARD
BEGIN:DAYLIGHT
TZOFFSETFROM:-0500
TZOFFSETTO:-0400
TZNAME:EDT
DTSTART:20240310T070000
END:DAYLIGHT
BEGIN:STANDARD
TZOFFSETFROM:-0400
TZOFFSETTO:-0500
TZNAME:EST
DTSTART:20241103T060000
END:STANDARD
BEGIN:DAYLIGHT
TZOFFSETFROM:-0500
TZOFFSETTO:-0400
TZNAME:EDT
DTSTART:20250309T070000
END:DAYLIGHT
BEGIN:STANDARD
TZOFFSETFROM:-0400
TZOFFSETTO:-0500
TZNAME:EST
DTSTART:20251102T060000
END:STANDARD
END:VTIMEZONE
BEGIN:VEVENT
DTSTART;VALUE=DATE:20241202
DTEND;VALUE=DATE:20241208
DTSTAMP:20260425T070058
CREATED:20240912T172550Z
LAST-MODIFIED:20240912T190039Z
UID:4750-1733097600-1733615999@www.wtrade.com
SUMMARY:Top Achievers Club 2024 - Bali
DESCRIPTION:Top Achievers Club 2024 with HPE Engage & Grow adds an additional slot for Veeam sales!\nA total of 8 slots are available for the best companies to win and be part of a unique experience in Bali\, Indonesia. \nThe road to Bali is paved with your sales of Microsoft\, Intel\, and now Veeam products. Every sale counts and brings you closer to this incredible destination! \nSecure your company’s place in this tropical paradise\, known for its white sand beaches\, ancient temples\, and vibrant culture. \nReady to start? Follow these steps\nAccept the Terms and Conditions of TAC 2024 within HPE E&G.\nDownload the list of participating Microsoft\, Intel\, and Veeam products.\nStart selling these products to accumulate miles. \nStart accumulating miles today with your sales of Microsoft\, Intel\, and Veeam products. Let’s go for that trip to Bali with all the enthusiasm and energy! \nParticipating Products \nWinning slots: A total of 8 winners will be selected\, meaning 8 companies with the best mileage performance from July 8th to September 30th\, 2024.\n• 3 Distributors\n• 2 Partners with Platinum & Gold membership\n• 2 Partners with Silver\, Business Partners\, or Proximities membership\n• 1 Exclusive slot for Veeam – Hewlett Packard Enterprise will select the winner of the Veeam slot\, while Microsoft and Intel choose the companies with the best sales performance and accumulated miles. \nReward: Each of the 8 winning companies can choose a member of their sales team to enjoy the trip to Bali\, Indonesia\, during the first week of December 2024 (dates to be defined). \nIt’s time to give it your all\, take your company to paradise! \nGet ready to compete\, accumulate miles\, and win the Top Achievers Club 2024!
URL:https://www.wtrade.com/event/top-achievers-club-2024-bali/
LOCATION:Web
CATEGORIES:Reward Travel
ATTACH;FMTTYPE=image/jpeg:https://www.wtrade.com/wp-content/uploads/2024/09/Bali-Top-Achiever-Banner.jpg
END:VEVENT
END:VCALENDAR