BEGIN:VCALENDAR
VERSION:2.0
PRODID:-//Westham Trade - ECPv6.15.20//NONSGML v1.0//EN
CALSCALE:GREGORIAN
METHOD:PUBLISH
X-WR-CALNAME:Westham Trade
X-ORIGINAL-URL:https://www.wtrade.com
X-WR-CALDESC:Events for Westham Trade
REFRESH-INTERVAL;VALUE=DURATION:PT1H
X-Robots-Tag:noindex
X-PUBLISHED-TTL:PT1H
BEGIN:VTIMEZONE
TZID:America/New_York
BEGIN:DAYLIGHT
TZOFFSETFROM:-0500
TZOFFSETTO:-0400
TZNAME:EDT
DTSTART:20230312T070000
END:DAYLIGHT
BEGIN:STANDARD
TZOFFSETFROM:-0400
TZOFFSETTO:-0500
TZNAME:EST
DTSTART:20231105T060000
END:STANDARD
BEGIN:DAYLIGHT
TZOFFSETFROM:-0500
TZOFFSETTO:-0400
TZNAME:EDT
DTSTART:20240310T070000
END:DAYLIGHT
BEGIN:STANDARD
TZOFFSETFROM:-0400
TZOFFSETTO:-0500
TZNAME:EST
DTSTART:20241103T060000
END:STANDARD
BEGIN:DAYLIGHT
TZOFFSETFROM:-0500
TZOFFSETTO:-0400
TZNAME:EDT
DTSTART:20250309T070000
END:DAYLIGHT
BEGIN:STANDARD
TZOFFSETFROM:-0400
TZOFFSETTO:-0500
TZNAME:EST
DTSTART:20251102T060000
END:STANDARD
END:VTIMEZONE
BEGIN:VEVENT
DTSTART;TZID=America/New_York:20240409T140000
DTEND;TZID=America/New_York:20240409T153000
DTSTAMP:20260425T193256
CREATED:20240307T150001Z
LAST-MODIFIED:20240307T151834Z
UID:4647-1712671200-1712676600@www.wtrade.com
SUMMARY:Win More Deals with HPE Aruba Networking’s Next-Gen Data Center Switching Portfolio - Beat the Competition with Aruba’s New Data Center Switching Solutions
DESCRIPTION:Data Center operators with legacy architectures today are struggling with how to handle the growing data demands on their networks\, while attack vectors increase within their Data Center infrastructure. Advanced tools are needed to integrate and automate their security with their workflows as their data centers scale. \nJoin our webinar series to learn about Aruba’s data center networking solution\, how to qualify opportunities\, and have sales conversations from a speeds and feeds dialogue to a business value driven conversation. We will cover 5 key design elements to help you win deals including; how customers can modernize with hardware-accelerated DPU-enabled switches\, transition to a fourth-generation distributed services architecture\, extend Zero Trust closer to their applications\, and blend network and security AIOps and Leverage the edge\, colocation\, and IaaS. \nBeat the Competition with Aruba’s New Data Center Switching Solutions\nTuesday\, April 9th at 11 AM PT / 2 PM ET  \nJoin this session to learn how to differentiate your data center switching solution and win against competition. You will learn how partnering with HPE Aruba Networking can help your customers design and build a new fourth-generation\, secure data center fabric. Fourth-generation network fabrics can preserve on-premises data center investments while providing the scale\, agility\, security\, and performance required for modern applications. \nThis session will detail how fourth-generation network fabrics can help your customers: \n\nImprove operational efficiency by automating day-to-day operations and provisioning.\nReduce costs and power consumption by removing the need for dedicated appliances for each service.\nAchieve greater visibility into east-west traffic patterns of modern applications.\nEnsure higher levels of data security with distributed firewalls closer to critical applications.\n\nExtend Zero Trust and micro segmentation closer to critical applications with advanced security services. \n Register Now
URL:https://www.wtrade.com/event/win-more-deals-with-hpe-aruba-networkings-next-gen-data-center-switching-portfolio-beat-the-competition-with-arubas-new-data-center-switching-solutions/
LOCATION:Web
CATEGORIES:Webinars
ATTACH;FMTTYPE=image/jpeg:https://www.wtrade.com/wp-content/uploads/2024/02/Win-More-Deals-With-HPE-Aruba-Networking-SSE-Security-Solutions.jpg
END:VEVENT
END:VCALENDAR