BEGIN:VCALENDAR
VERSION:2.0
PRODID:-//Westham Trade - ECPv6.15.20//NONSGML v1.0//EN
CALSCALE:GREGORIAN
METHOD:PUBLISH
X-WR-CALNAME:Westham Trade
X-ORIGINAL-URL:https://www.wtrade.com
X-WR-CALDESC:Events for Westham Trade
REFRESH-INTERVAL;VALUE=DURATION:PT1H
X-Robots-Tag:noindex
X-PUBLISHED-TTL:PT1H
BEGIN:VTIMEZONE
TZID:America/New_York
BEGIN:DAYLIGHT
TZOFFSETFROM:-0500
TZOFFSETTO:-0400
TZNAME:EDT
DTSTART:20250309T070000
END:DAYLIGHT
BEGIN:STANDARD
TZOFFSETFROM:-0400
TZOFFSETTO:-0500
TZNAME:EST
DTSTART:20251102T060000
END:STANDARD
BEGIN:DAYLIGHT
TZOFFSETFROM:-0500
TZOFFSETTO:-0400
TZNAME:EDT
DTSTART:20260308T070000
END:DAYLIGHT
BEGIN:STANDARD
TZOFFSETFROM:-0400
TZOFFSETTO:-0500
TZNAME:EST
DTSTART:20261101T060000
END:STANDARD
BEGIN:DAYLIGHT
TZOFFSETFROM:-0500
TZOFFSETTO:-0400
TZNAME:EDT
DTSTART:20270314T070000
END:DAYLIGHT
BEGIN:STANDARD
TZOFFSETFROM:-0400
TZOFFSETTO:-0500
TZNAME:EST
DTSTART:20271107T060000
END:STANDARD
END:VTIMEZONE
BEGIN:VEVENT
DTSTART;TZID=America/New_York:20260401T130000
DTEND;TZID=America/New_York:20260401T140000
DTSTAMP:20260423T233250
CREATED:20260331T201336Z
LAST-MODIFIED:20260331T201336Z
UID:5478-1775048400-1775052000@www.wtrade.com
SUMMARY:The new face of threats: Combating cybersecurity risks in the AI era
DESCRIPTION:Register\n					\n	Event essentials\nEvent Location \nWebinar\nStart date – End date \nApril 01\, 2026\nLocation details \nWebinar\nLast registration date\nApril 01\, 2026 10:30 a.m. (GMT-8)\n	Overview\n	AI is transforming how organizations operate and how attackers exploit them. \nNew risks are emerging across users\, devices\, and applications\, from deepfake impersonation and autonomous attack agents to data leakage through generative AI tools. Traditional security models alone are no longer enough. \nIn this webinar\, Frank Dickson\, Group Vice President for IDC’s Security & Trust research practice\, and John Spiegel\, Field CTO for SASE and Distinguished Technologist for Security at HPE\, will explore the evolving AI threat landscape and explain what enterprises must do to stay ahead. \nYou will discover how to: \n\nMitigate risk from AI-driven threats and shadow AI usage\nApply zero trust controls at every point of connection\nUse AI-driven threat detection to identify and contain attacks faster\nProtect performance while strengthening security posture\n\nJoin us to learn how to defend against the next generation of AI-driven cyber threats. \n	Details\nDate:\nApril 1\, 2026\nTime:\n10:00 a.m. – 10:40 a.m. PDT
URL:https://www.wtrade.com/event/the-new-face-of-threats-combating-cybersecurity-risks-in-the-ai-era/
LOCATION:Web
CATEGORIES:Webinars
ATTACH;FMTTYPE=image/png:https://www.wtrade.com/wp-content/uploads/2025/10/Headder.png
END:VEVENT
END:VCALENDAR