BEGIN:VCALENDAR
VERSION:2.0
PRODID:-//Westham Trade - ECPv6.15.20//NONSGML v1.0//EN
CALSCALE:GREGORIAN
METHOD:PUBLISH
X-ORIGINAL-URL:https://www.wtrade.com
X-WR-CALDESC:Events for Westham Trade
REFRESH-INTERVAL;VALUE=DURATION:PT1H
X-Robots-Tag:noindex
X-PUBLISHED-TTL:PT1H
BEGIN:VTIMEZONE
TZID:America/New_York
BEGIN:DAYLIGHT
TZOFFSETFROM:-0500
TZOFFSETTO:-0400
TZNAME:EDT
DTSTART:20240310T070000
END:DAYLIGHT
BEGIN:STANDARD
TZOFFSETFROM:-0400
TZOFFSETTO:-0500
TZNAME:EST
DTSTART:20241103T060000
END:STANDARD
BEGIN:DAYLIGHT
TZOFFSETFROM:-0500
TZOFFSETTO:-0400
TZNAME:EDT
DTSTART:20250309T070000
END:DAYLIGHT
BEGIN:STANDARD
TZOFFSETFROM:-0400
TZOFFSETTO:-0500
TZNAME:EST
DTSTART:20251102T060000
END:STANDARD
BEGIN:DAYLIGHT
TZOFFSETFROM:-0500
TZOFFSETTO:-0400
TZNAME:EDT
DTSTART:20260308T070000
END:DAYLIGHT
BEGIN:STANDARD
TZOFFSETFROM:-0400
TZOFFSETTO:-0500
TZNAME:EST
DTSTART:20261101T060000
END:STANDARD
END:VTIMEZONE
BEGIN:VEVENT
DTSTART;TZID=America/New_York:20250714T120000
DTEND;TZID=America/New_York:20250714T130000
DTSTAMP:20260424T121425
CREATED:20250626T191007Z
LAST-MODIFIED:20250626T191007Z
UID:5186-1752494400-1752498000@www.wtrade.com
SUMMARY:HPE Aruba Networking  CX 9300 Switch Series Use Cases
DESCRIPTION:Date: July 14\, 2025\nTime: 9:00 a.m. PT | 12:00 p.m. ET\n	HPE Aruba Networking enterprise switching portfolio is purpose-built for cloud\, mobile and IoT. Scalable platforms deliver the power and future-proofing needed for growing user\, device and app demands. Intuitive management tools and built-in analytics cut IT complexity by reducing time spent on implementing changes and troubleshooting errors. \n	The HPE Aruba Networking CX 9300 Switch Series is a next-generation 12.8Tbps\, 1U fixed configuration switch supporting 32-ports of 25/100/400GbE. The switch is an ideal solution for flexible\, cost-effective\, high-density 10-400GbE connectivity server\, storage\, and intra-fabric connectivity. This solution helps protect enterprises investment as they as they transition server farms from 10GbE to 25GbE and 100GbE/400GbE EVPN-VXLAN spine configurations at reduced power and a smaller footprint. \n	Join our session for a comprehensive technical overview of the CX 9300 switching series and ELK overview. We will discuss the ongoing efforts regarding ELK integration for telemetry and the capabilities supported by AI in networking. \n	\nHPE Aruba Networking CX switching overview.\nCX 9300 switching series and ELK overview.\nPartner Resources.\n\n			\n							Register Now
URL:https://www.wtrade.com/event/hpe-aruba-networking-cx-9300-switch-series-use-cases/
LOCATION:Web
CATEGORIES:Webinars
ATTACH;FMTTYPE=image/jpeg:https://www.wtrade.com/wp-content/uploads/2024/10/headder-scaled.jpg
END:VEVENT
END:VCALENDAR