BEGIN:VCALENDAR
VERSION:2.0
PRODID:-//Westham Trade - ECPv6.15.20//NONSGML v1.0//EN
CALSCALE:GREGORIAN
METHOD:PUBLISH
X-ORIGINAL-URL:https://www.wtrade.com
X-WR-CALDESC:Events for Westham Trade
REFRESH-INTERVAL;VALUE=DURATION:PT1H
X-Robots-Tag:noindex
X-PUBLISHED-TTL:PT1H
BEGIN:VTIMEZONE
TZID:America/New_York
BEGIN:DAYLIGHT
TZOFFSETFROM:-0500
TZOFFSETTO:-0400
TZNAME:EDT
DTSTART:20230312T070000
END:DAYLIGHT
BEGIN:STANDARD
TZOFFSETFROM:-0400
TZOFFSETTO:-0500
TZNAME:EST
DTSTART:20231105T060000
END:STANDARD
BEGIN:DAYLIGHT
TZOFFSETFROM:-0500
TZOFFSETTO:-0400
TZNAME:EDT
DTSTART:20240310T070000
END:DAYLIGHT
BEGIN:STANDARD
TZOFFSETFROM:-0400
TZOFFSETTO:-0500
TZNAME:EST
DTSTART:20241103T060000
END:STANDARD
BEGIN:DAYLIGHT
TZOFFSETFROM:-0500
TZOFFSETTO:-0400
TZNAME:EDT
DTSTART:20250309T070000
END:DAYLIGHT
BEGIN:STANDARD
TZOFFSETFROM:-0400
TZOFFSETTO:-0500
TZNAME:EST
DTSTART:20251102T060000
END:STANDARD
END:VTIMEZONE
BEGIN:VEVENT
DTSTART;TZID=America/New_York:20240312T140000
DTEND;TZID=America/New_York:20240312T153000
DTSTAMP:20260425T233652
CREATED:20240307T144141Z
LAST-MODIFIED:20240307T144425Z
UID:4643-1710252000-1710257400@www.wtrade.com
SUMMARY:Win More Deals with HPE Aruba Networking’s Next-Gen Data Center Switching Portfolio - New Data Center Switching Sales Play and Opportunities
DESCRIPTION:Data Center operators with legacy architectures today are struggling with how to handle the growing data demands on their networks\, while attack vectors increase within their Data Center infrastructure. Advanced tools are needed to integrate and automate their security with their workflows as their data centers scale. \nJoin our webinar series to learn about Aruba’s data center networking solution\, how to qualify opportunities\, and have sales conversations from a speeds and feeds dialogue to a business value driven conversation. We will cover 5 key design elements to help you win deals including; how customers can modernize with hardware-accelerated DPU-enabled switches\, transition to a fourth-generation distributed services architecture\, extend Zero Trust closer to their applications\, and blend network and security AIOps and Leverage the edge\, colocation\, and IaaS. \nNew Data Center Switching Sales Play and Opportunities\nTuesday\, March 12th at 11 AM PT / 2 PM ET  \nAruba’s data center CX switching portfolio is purpose-built to handle the demands of cloud-based services\, business critical mobility and the growth of IoT. Designed with a modern\, cloud-native OS that gives your customers the flexibility to deploy a single high-performance platform across the entire network\, CX switches uniquely reduce IT complexity with easy-to-use configuration tools and built-in analytics for automated monitoring and faster troubleshooting. \nJoin us to learn how HPE Aruba networking is addressing these evolving needs today with our Next-Gen Data Center Switching Solutions. Aruba’s approach is revolutionary\, delivering performance and cost savings unmatched by any solutions available today including Cisco or Arista. We’ll discuss key talking points\, positioning\, use cases\, and provide you guidance on approaching a sales opportunity. \n Register Now
URL:https://www.wtrade.com/event/win-more-deals-with-hpe-aruba-networkings-next-gen-data-center-switching-portfolio-new-data-center-switching-sales-play-and-opportunities/
LOCATION:Web
CATEGORIES:Webinars
ATTACH;FMTTYPE=image/jpeg:https://www.wtrade.com/wp-content/uploads/2024/02/Win-More-Deals-With-HPE-Aruba-Networking-SSE-Security-Solutions.jpg
END:VEVENT
END:VCALENDAR