BEGIN:VCALENDAR
VERSION:2.0
PRODID:-//Westham Trade - ECPv6.15.20//NONSGML v1.0//EN
CALSCALE:GREGORIAN
METHOD:PUBLISH
X-ORIGINAL-URL:https://www.wtrade.com
X-WR-CALDESC:Events for Westham Trade
REFRESH-INTERVAL;VALUE=DURATION:PT1H
X-Robots-Tag:noindex
X-PUBLISHED-TTL:PT1H
BEGIN:VTIMEZONE
TZID:America/New_York
BEGIN:DAYLIGHT
TZOFFSETFROM:-0500
TZOFFSETTO:-0400
TZNAME:EDT
DTSTART:20240310T070000
END:DAYLIGHT
BEGIN:STANDARD
TZOFFSETFROM:-0400
TZOFFSETTO:-0500
TZNAME:EST
DTSTART:20241103T060000
END:STANDARD
BEGIN:DAYLIGHT
TZOFFSETFROM:-0500
TZOFFSETTO:-0400
TZNAME:EDT
DTSTART:20250309T070000
END:DAYLIGHT
BEGIN:STANDARD
TZOFFSETFROM:-0400
TZOFFSETTO:-0500
TZNAME:EST
DTSTART:20251102T060000
END:STANDARD
BEGIN:DAYLIGHT
TZOFFSETFROM:-0500
TZOFFSETTO:-0400
TZNAME:EDT
DTSTART:20260308T070000
END:DAYLIGHT
BEGIN:STANDARD
TZOFFSETFROM:-0400
TZOFFSETTO:-0500
TZNAME:EST
DTSTART:20261101T060000
END:STANDARD
END:VTIMEZONE
BEGIN:VEVENT
DTSTART;TZID=America/New_York:20250710T160000
DTEND;TZID=America/New_York:20250710T170000
DTSTAMP:20260424T120842
CREATED:20250703T193907Z
LAST-MODIFIED:20250703T193907Z
UID:5197-1752163200-1752166800@www.wtrade.com
SUMMARY:Webinar HP Negocios: Cómo vender PCs con IA integrada
DESCRIPTION:La inteligencia artificial ya no es una promesa del futuro\, es una realidad que tus clientes están empezando a exigir hoy. Con la llegada de los nuevos procesadores PCs con NPU integrada en sus procesadores. HP lanza una nueva generación de equipos diseñados para trabajar más inteligentemente\, ahorrar tiempo y mejorar la productividad real. \n	En este webinar vas  entender\, sin tecnicismos\, qué significa tener IA en un PC\, cómo explicarlo a tus clientes corporativos y cómo usarlo como argumento de venta sólido para diferenciarte en cada oportunidad. \n	Qué veremos ?\n	\nQué es una NPU y cómo cambia la forma de trabajar en los negocios.\nQué hace un Copilot+ PC y por qué tus clientes lo van a pedir.\nQué equipos de HP ya traen estas funciones listas para vender hoy.\n\n	Por qué no te lo puedes perder ?\n	\nPorque la nueva ola de PCs con IA ya empezó y HP va al frente.\nPorque aprenderás a explicar esta tecnología de forma práctica y venderla sin ser técnico.\nPorque quien entienda esto primero… vende más.\n\n			\n							Regístrate
URL:https://www.wtrade.com/event/webinar-hp-negocios-como-vender-pcs-con-ia-integrada/
LOCATION:Web
CATEGORIES:Webinars
ATTACH;FMTTYPE=image/jpeg:https://www.wtrade.com/wp-content/uploads/2025/04/HP-INC-WT-scaled.jpg
END:VEVENT
END:VCALENDAR