BEGIN:VCALENDAR
VERSION:2.0
PRODID:-//Westham Trade - ECPv6.15.20//NONSGML v1.0//EN
CALSCALE:GREGORIAN
METHOD:PUBLISH
X-ORIGINAL-URL:https://www.wtrade.com
X-WR-CALDESC:Events for Westham Trade
REFRESH-INTERVAL;VALUE=DURATION:PT1H
X-Robots-Tag:noindex
X-PUBLISHED-TTL:PT1H
BEGIN:VTIMEZONE
TZID:America/New_York
BEGIN:DAYLIGHT
TZOFFSETFROM:-0500
TZOFFSETTO:-0400
TZNAME:EDT
DTSTART:20240310T070000
END:DAYLIGHT
BEGIN:STANDARD
TZOFFSETFROM:-0400
TZOFFSETTO:-0500
TZNAME:EST
DTSTART:20241103T060000
END:STANDARD
BEGIN:DAYLIGHT
TZOFFSETFROM:-0500
TZOFFSETTO:-0400
TZNAME:EDT
DTSTART:20250309T070000
END:DAYLIGHT
BEGIN:STANDARD
TZOFFSETFROM:-0400
TZOFFSETTO:-0500
TZNAME:EST
DTSTART:20251102T060000
END:STANDARD
BEGIN:DAYLIGHT
TZOFFSETFROM:-0500
TZOFFSETTO:-0400
TZNAME:EDT
DTSTART:20260308T070000
END:DAYLIGHT
BEGIN:STANDARD
TZOFFSETFROM:-0400
TZOFFSETTO:-0500
TZNAME:EST
DTSTART:20261101T060000
END:STANDARD
END:VTIMEZONE
BEGIN:VEVENT
DTSTART;TZID=America/New_York:20250616T110000
DTEND;TZID=America/New_York:20250616T120000
DTSTAMP:20260424T122418
CREATED:20250528T155141Z
LAST-MODIFIED:20250528T155141Z
UID:5146-1750071600-1750075200@www.wtrade.com
SUMMARY:LASER Partner Academy - Sesiones de Junio 2025 - Cómo ganarle negocios a las nubes públicas
DESCRIPTION:Hewlett Packard Enterprise (HPE) les invita a participar en las sesiones con las últimas actualizaciones y novedades de contenido técnico y/o comercial en productos y soluciones de HPE Compute\, HPE Data Services y HPE Hybrid Solutions y alianzas. Las sesiones son impartidas por diferentes equipos especializados de HPE\, proporcionando acceso a temas relevantes\, a través de sesiones interactivas con preguntas y respuestas en directo con expertos de HPE. \nParticipe en las sesiones en vivo. Estas tendrán una duración de 60 minutos y se llevarán a cabo los lunes a las 10:00 a.m. (GMT-05) / 4:00 p.m. CET+1. \n	Importante \nPara ver la lista completa de los eventos de Partner Academy y las sesiones grabadas\, deberá hacerlo en la sección de HPE Tech Pro LASER\, y seleccionando la versión en español de la página. \nPara ingresar a HPE Tech Pro es requerido ser miembro e ingresar con sus credenciales del Partner Ready Portal. \n				\n	\n\n\nCómo ganarle negocios a las nubes públicas\n\n\n\n\n\nFecha: Lunes\, 16 de Junio\nHora: 10:00 a.m. (GMT-05) / 4:00 p.m. CET+1\nDuración: 60 Mins\nAudience: Comercial\nLearning Level: Awareness\nBadge: N/A\nAcompáñenos y conozca cómo la estrategia de Cloud first de nuestros clientes cambio y nos encontramos ahora en la etapa donde los clientes identifican complicaciones a nivel de costos\, seguridad\, control que no consideraron. Esto es beneficioso para nuestra estrategia Hybrid cloud ya que nos abre la puerta para solucionar y apoyar a los clientes en una nueva definición y estrategia.\n\n\n\n			\n							Regístrese aquí
URL:https://www.wtrade.com/event/laser-partner-academy-sesiones-de-junio-2025-como-ganarle-negocios-a-las-nubes-publicas/
LOCATION:Web
CATEGORIES:Training,Webinars
ATTACH;FMTTYPE=image/png:https://www.wtrade.com/wp-content/uploads/2025/05/laseracademyjunio2025-2.png
END:VEVENT
END:VCALENDAR