BEGIN:VCALENDAR
VERSION:2.0
PRODID:-//Westham Trade - ECPv6.15.20//NONSGML v1.0//EN
CALSCALE:GREGORIAN
METHOD:PUBLISH
X-ORIGINAL-URL:https://www.wtrade.com
X-WR-CALDESC:Events for Westham Trade
REFRESH-INTERVAL;VALUE=DURATION:PT1H
X-Robots-Tag:noindex
X-PUBLISHED-TTL:PT1H
BEGIN:VTIMEZONE
TZID:America/New_York
BEGIN:DAYLIGHT
TZOFFSETFROM:-0500
TZOFFSETTO:-0400
TZNAME:EDT
DTSTART:20240310T070000
END:DAYLIGHT
BEGIN:STANDARD
TZOFFSETFROM:-0400
TZOFFSETTO:-0500
TZNAME:EST
DTSTART:20241103T060000
END:STANDARD
BEGIN:DAYLIGHT
TZOFFSETFROM:-0500
TZOFFSETTO:-0400
TZNAME:EDT
DTSTART:20250309T070000
END:DAYLIGHT
BEGIN:STANDARD
TZOFFSETFROM:-0400
TZOFFSETTO:-0500
TZNAME:EST
DTSTART:20251102T060000
END:STANDARD
BEGIN:DAYLIGHT
TZOFFSETFROM:-0500
TZOFFSETTO:-0400
TZNAME:EDT
DTSTART:20260308T070000
END:DAYLIGHT
BEGIN:STANDARD
TZOFFSETFROM:-0400
TZOFFSETTO:-0500
TZNAME:EST
DTSTART:20261101T060000
END:STANDARD
END:VTIMEZONE
BEGIN:VEVENT
DTSTART;TZID=America/New_York:20251217T120000
DTEND;TZID=America/New_York:20251217T150000
DTSTAMP:20260424T045121
CREATED:20251215T200824Z
LAST-MODIFIED:20251215T200824Z
UID:5363-1765972800-1765983600@www.wtrade.com
SUMMARY:Win More Deals with HPE Networking Data Center and Routing Infrastructure Solutions Channel Sales Play
DESCRIPTION:The combination of HPE and Juniper Networks brings together two best-in-class portfolios\, creating an industry-leading\, comprehensive\, cloud-native\, and AI-Native IT portfolio with a full\, modern networking stack. \n	Join our new two-part webinar series to learn how you\, as a partner\, can grow your networking practice with our Data Center and Routing Infrastructure Solutions’ channel sales plays. By attending these webinars\, you’ll be equipped to develop a go-to-market plan and be able to position the solution in your accounts to acquire new logos. \n	Note: Registration with your corporate e-mail address is required for attendance. All sessions will be conducted in English. \n	Data Center Sales Play Deep Dive\nWednesday\, December 17th at 9 AM PT / 12 PM PT\n	Discover how your customers can transform their network infrastructure\, reduce costs\, and increase productivity with a deep dive into our Data Center Solutions. You will learn how you can differentiate and grow your networking practice with our network management solution. We’ll provide talking points\, identify go-to-market strategies\, use cases\, and guidance on approaching sales opportunities. \n			\n							Register Now
URL:https://www.wtrade.com/event/win-more-deals-with-hpe-networking-data-center-and-routing-infrastructure-solutions-channel-sales-play/
LOCATION:Web
CATEGORIES:Training,Webinars
ATTACH;FMTTYPE=image/png:https://www.wtrade.com/wp-content/uploads/2025/10/Headder.png
END:VEVENT
END:VCALENDAR