BEGIN:VCALENDAR
VERSION:2.0
PRODID:-//Westham Trade - ECPv6.15.20//NONSGML v1.0//EN
CALSCALE:GREGORIAN
METHOD:PUBLISH
X-ORIGINAL-URL:https://www.wtrade.com
X-WR-CALDESC:Events for Westham Trade
REFRESH-INTERVAL;VALUE=DURATION:PT1H
X-Robots-Tag:noindex
X-PUBLISHED-TTL:PT1H
BEGIN:VTIMEZONE
TZID:America/New_York
BEGIN:DAYLIGHT
TZOFFSETFROM:-0500
TZOFFSETTO:-0400
TZNAME:EDT
DTSTART:20240310T070000
END:DAYLIGHT
BEGIN:STANDARD
TZOFFSETFROM:-0400
TZOFFSETTO:-0500
TZNAME:EST
DTSTART:20241103T060000
END:STANDARD
BEGIN:DAYLIGHT
TZOFFSETFROM:-0500
TZOFFSETTO:-0400
TZNAME:EDT
DTSTART:20250309T070000
END:DAYLIGHT
BEGIN:STANDARD
TZOFFSETFROM:-0400
TZOFFSETTO:-0500
TZNAME:EST
DTSTART:20251102T060000
END:STANDARD
BEGIN:DAYLIGHT
TZOFFSETFROM:-0500
TZOFFSETTO:-0400
TZNAME:EDT
DTSTART:20260308T070000
END:DAYLIGHT
BEGIN:STANDARD
TZOFFSETFROM:-0400
TZOFFSETTO:-0500
TZNAME:EST
DTSTART:20261101T060000
END:STANDARD
END:VTIMEZONE
BEGIN:VEVENT
DTSTART;TZID=America/New_York:20251023T110000
DTEND;TZID=America/New_York:20251023T120000
DTSTAMP:20260424T101843
CREATED:20251009T151852Z
LAST-MODIFIED:20251009T151852Z
UID:5307-1761217200-1761220800@www.wtrade.com
SUMMARY:The Great VM Reset: Migrate and protect customer data on HPE Private Cloud solutions with Veeam Data Platform and Veeam Kasten
DESCRIPTION:As your customers look to HPE Private Cloud solutions to accelerate delivery of on-demand access to critical resources\, protecting the massive data created is more critical than ever before. Look no further than Veeam’s comprehensive data protection and workload migration solution for HPE Private Cloud solutions. In this session\, HPE and Veeam will show you how: \n	\nVeeam Data Platform protects data on HPE Private Cloud Business Edition (PCBE) and HPE Private Cloud Enterprise (PCE)\nHPE PCBE and HPE PCE enable of seamless management and rapid provisioning everywhere\nHPE Morpheus VM Essentials Software reduces cost and complexity of virtualized workloads to streamline provisioning and re-platforming\nVeeam Data Platform protects VM with VM Agents and image-based backups for automated\, multi-hypervisor immutable protection and VM migration\nVeeam Kasten protection and migration of Kubernetes clusters managed by HPE Morpheus Kubernetes Service enables customer cloud-native application deployments\n\n	Register today for the Great VM Reset: Migrate and protect customer data on HPE Private Cloud solutions with Veeam Data Platform and Veeam Kasten webinar. \n			\n							Registaer Here\n					\n	If you are not able to join live\, a replay will be available following the event at the same link.
URL:https://www.wtrade.com/event/the-great-vm-reset-migrate-and-protect-customer-data-on-hpe-private-cloud-solutions-with-veeam-data-platform-and-veeam-kasten/
LOCATION:Web
CATEGORIES:Webinars
ATTACH;FMTTYPE=image/jpeg:https://www.wtrade.com/wp-content/uploads/2025/10/HPE-WT-Banner-Veeam-Event-Ocotber-20205.jpg
END:VEVENT
END:VCALENDAR