BEGIN:VCALENDAR
VERSION:2.0
PRODID:-//Westham Trade - ECPv6.15.20//NONSGML v1.0//EN
CALSCALE:GREGORIAN
METHOD:PUBLISH
X-WR-CALNAME:Westham Trade
X-ORIGINAL-URL:https://www.wtrade.com
X-WR-CALDESC:Events for Westham Trade
REFRESH-INTERVAL;VALUE=DURATION:PT1H
X-Robots-Tag:noindex
X-PUBLISHED-TTL:PT1H
BEGIN:VTIMEZONE
TZID:America/New_York
BEGIN:DAYLIGHT
TZOFFSETFROM:-0500
TZOFFSETTO:-0400
TZNAME:EDT
DTSTART:20240310T070000
END:DAYLIGHT
BEGIN:STANDARD
TZOFFSETFROM:-0400
TZOFFSETTO:-0500
TZNAME:EST
DTSTART:20241103T060000
END:STANDARD
BEGIN:DAYLIGHT
TZOFFSETFROM:-0500
TZOFFSETTO:-0400
TZNAME:EDT
DTSTART:20250309T070000
END:DAYLIGHT
BEGIN:STANDARD
TZOFFSETFROM:-0400
TZOFFSETTO:-0500
TZNAME:EST
DTSTART:20251102T060000
END:STANDARD
BEGIN:DAYLIGHT
TZOFFSETFROM:-0500
TZOFFSETTO:-0400
TZNAME:EDT
DTSTART:20260308T070000
END:DAYLIGHT
BEGIN:STANDARD
TZOFFSETFROM:-0400
TZOFFSETTO:-0500
TZNAME:EST
DTSTART:20261101T060000
END:STANDARD
END:VTIMEZONE
BEGIN:VEVENT
DTSTART;TZID=America/New_York:20250203T100000
DTEND;TZID=America/New_York:20250203T110000
DTSTAMP:20260424T232238
CREATED:20250128T190827Z
LAST-MODIFIED:20250128T191052Z
UID:4953-1738576800-1738580400@www.wtrade.com
SUMMARY:LASER Partner Academy  Sesiones de Febrero 2025 Base Instalada de Contratos de Soporte HPE - Renovación y Conversión - Parte 1
DESCRIPTION:Hewlett Packard Enterprise (HPE) les invita a participar en las sesiones con las últimas actualizaciones y novedades de contenido técnico y/o comercial en productos y soluciones de HPE Compute\, HPE Data Services y HPE Hybrid Solutions y alianzas. Las sesiones son impartidas por diferentes equipos especializados de HPE\, proporcionando acceso a temas relevantes\, a través de sesiones interactivas con preguntas y respuestas en directo con expertos de HPE. \nParticipe en las sesiones en vivo. Estas tendrán una duración de 60 minutos y se llevarán a cabo los lunes a las 10:00 a.m. (GMT-05) / 4:00 p.m. CET+1. \nImportante \nPara ver la lista completa de los eventos de Partner Academy y las sesiones grabadas\, deberá hacerlo en la sección de HPE Tech Pro LASER\, y seleccionando la versión en español de la página. \nPara ingresar a HPE Tech Pro es requerido ser miembro e ingresar con sus credenciales del Partner Ready Portal. \n  Regístrese Ahora  \nBase Instalada de Contratos de Soporte HPE – Renovación y Conversión – Parte 1  \nFecha: Lunes\, 3 de FebreroHora: 10:00 a.m. (GMT-05) / 4:00 p.m. CET+1Duración: 60 MinsAudience: ComercialLearning Level: AwarenessBadge: N/A \n¿Quieres actualizar tus conocimientos y profundizar en los procesos relacionados a los contratos de soporte HPE? Únete a nosotros en esta sesión que te brindará la oportunidad de entender y conocer en detalle como vender nuestros servicios HPE\, cuál es el ciclo de vida de un contrato de soporte\, cuál es el proceso de Base Instalada y como trabajar correctamente un ciclo de renovación/conversión de contratos de la mano de nuestro equipo de expertos en servicios.
URL:https://www.wtrade.com/event/laser-partner-academy-sesiones-de-febrero-2025/
LOCATION:Web
CATEGORIES:Webinars
ATTACH;FMTTYPE=image/jpeg:https://www.wtrade.com/wp-content/uploads/2025/01/Laser-Partner-Headder-scaled.jpg
END:VEVENT
END:VCALENDAR