BEGIN:VCALENDAR
VERSION:2.0
PRODID:-//Westham Trade - ECPv6.15.20//NONSGML v1.0//EN
CALSCALE:GREGORIAN
METHOD:PUBLISH
X-ORIGINAL-URL:https://www.wtrade.com
X-WR-CALDESC:Events for Westham Trade
REFRESH-INTERVAL;VALUE=DURATION:PT1H
X-Robots-Tag:noindex
X-PUBLISHED-TTL:PT1H
BEGIN:VTIMEZONE
TZID:America/New_York
BEGIN:DAYLIGHT
TZOFFSETFROM:-0500
TZOFFSETTO:-0400
TZNAME:EDT
DTSTART:20240310T070000
END:DAYLIGHT
BEGIN:STANDARD
TZOFFSETFROM:-0400
TZOFFSETTO:-0500
TZNAME:EST
DTSTART:20241103T060000
END:STANDARD
BEGIN:DAYLIGHT
TZOFFSETFROM:-0500
TZOFFSETTO:-0400
TZNAME:EDT
DTSTART:20250309T070000
END:DAYLIGHT
BEGIN:STANDARD
TZOFFSETFROM:-0400
TZOFFSETTO:-0500
TZNAME:EST
DTSTART:20251102T060000
END:STANDARD
BEGIN:DAYLIGHT
TZOFFSETFROM:-0500
TZOFFSETTO:-0400
TZNAME:EDT
DTSTART:20260308T070000
END:DAYLIGHT
BEGIN:STANDARD
TZOFFSETFROM:-0400
TZOFFSETTO:-0500
TZNAME:EST
DTSTART:20261101T060000
END:STANDARD
END:VTIMEZONE
BEGIN:VEVENT
DTSTART;TZID=America/New_York:20250609T110000
DTEND;TZID=America/New_York:20250609T120000
DTSTAMP:20260424T140623
CREATED:20250528T152845Z
LAST-MODIFIED:20250528T154055Z
UID:5136-1749466800-1749470400@www.wtrade.com
SUMMARY:LASER Partner Academy - Sesiones de Junio 2025 - Impulsando Oportunidades con Alianzas Estratégicas de HPE
DESCRIPTION:Hewlett Packard Enterprise (HPE) les invita a participar en las sesiones con las últimas actualizaciones y novedades de contenido técnico y/o comercial en productos y soluciones de HPE Compute\, HPE Data Services y HPE Hybrid Solutions y alianzas. Las sesiones son impartidas por diferentes equipos especializados de HPE\, proporcionando acceso a temas relevantes\, a través de sesiones interactivas con preguntas y respuestas en directo con expertos de HPE. \nParticipe en las sesiones en vivo. Estas tendrán una duración de 60 minutos y se llevarán a cabo los lunes a las 10:00 a.m. (GMT-05) / 4:00 p.m. CET+1 . \n	Importante \nPara ver la lista completa de los eventos de Partner Academy y las sesiones grabadas\, deberá hacerlo en la sección de HPE Tech Pro LASER\, y seleccionando la versión en español de la página. \nPara ingresar a HPE Tech Pro es requerido ser miembro e ingresar con sus credenciales del Partner Ready Portal. \n	\n\n\nImpulsando Oportunidades con Alianzas Estratégicas de HPE \n\n\n\n\n\nFecha: Lunes\, 9 de Junio\nHora: 10:00 a.m. (GMT-05) / 4:00 p.m. CET+1\nDuración: 60 Mins\nAudience: Comercial\nLearning Level: Awareness\nBadge: N/A\nExplora cómo las alianzas estratégicas de HPE con Microsoft\, SUSE\, Red Hat y Nutanix habilitan arquitectura de TI modernas\, seguras y escalables. En esta sesión presentaremos las propuestas conjuntas diseñadas para optimizar entornos hibridos\, acelerar la adopción de contenedores\, automatizar la operación de infraestructura y garantizar la continuidad del negocio. Conoce cómo estas integraciones técnicas con HPE forman plataformas robustas para soportar cargas de trabajo críticas\, desde el edge hasta la nube\, y cómo puedes capitalizar estas soluciones para generar nuevas oportunidades comerciales con tus clientes.\n\n\n\n			\n							Regístrese aquí
URL:https://www.wtrade.com/event/laser-partner-academy-sesiones-de-junio-2025-impulsando-oportunidades-con-alianzas-estrategicas-de-hpe/
LOCATION:Web
CATEGORIES:Training,Webinars
ATTACH;FMTTYPE=image/png:https://www.wtrade.com/wp-content/uploads/2025/05/laseracademyjunio2025-2.png
END:VEVENT
END:VCALENDAR