BEGIN:VCALENDAR
VERSION:2.0
PRODID:-//Westham Trade - ECPv6.15.20//NONSGML v1.0//EN
CALSCALE:GREGORIAN
METHOD:PUBLISH
X-WR-CALNAME:Westham Trade
X-ORIGINAL-URL:https://www.wtrade.com
X-WR-CALDESC:Events for Westham Trade
REFRESH-INTERVAL;VALUE=DURATION:PT1H
X-Robots-Tag:noindex
X-PUBLISHED-TTL:PT1H
BEGIN:VTIMEZONE
TZID:America/New_York
BEGIN:DAYLIGHT
TZOFFSETFROM:-0500
TZOFFSETTO:-0400
TZNAME:EDT
DTSTART:20240310T070000
END:DAYLIGHT
BEGIN:STANDARD
TZOFFSETFROM:-0400
TZOFFSETTO:-0500
TZNAME:EST
DTSTART:20241103T060000
END:STANDARD
BEGIN:DAYLIGHT
TZOFFSETFROM:-0500
TZOFFSETTO:-0400
TZNAME:EDT
DTSTART:20250309T070000
END:DAYLIGHT
BEGIN:STANDARD
TZOFFSETFROM:-0400
TZOFFSETTO:-0500
TZNAME:EST
DTSTART:20251102T060000
END:STANDARD
BEGIN:DAYLIGHT
TZOFFSETFROM:-0500
TZOFFSETTO:-0400
TZNAME:EDT
DTSTART:20260308T070000
END:DAYLIGHT
BEGIN:STANDARD
TZOFFSETFROM:-0400
TZOFFSETTO:-0500
TZNAME:EST
DTSTART:20261101T060000
END:STANDARD
END:VTIMEZONE
BEGIN:VEVENT
DTSTART;TZID=America/New_York:20250617T103000
DTEND;TZID=America/New_York:20250619T173000
DTSTAMP:20260424T122122
CREATED:20250603T162803Z
LAST-MODIFIED:20250603T162803Z
UID:5160-1750156200-1750354200@www.wtrade.com
SUMMARY:HP Amplify Elevate - LATAM Sesión en Español
DESCRIPTION:Estamos encantados de invitarte a HP Amplify Elevate 2025. \n  \nHP Amplify Elevate es un evento virtual exclusivo para Socios de HP\, donde conocerás la estrategia\, las áreas de crecimiento de Amplify y el portafolio de productos de HP. Incluye una agenda con contenido relevante y la participación de líderes de HP y aliados\, con el objetivo de impulsar juntos el crecimiento y el futuro del trabajo. \n	¿Por qué participar? \n\nRecibirás una insignia de participación según la ruta de aprendizaje que elijas.\nObtendrás un 35% de descuento en los exámenes de especialización destacados.\n\nSi participas en la sesión de apertura\, en las de alianzas y en las de Poly el 19 de junio\, tu asistencia será válida para la certificación en ventas de Audio. Nota: Se requiere la participación de al menos 2 personas por empresa y un 90% de asistencia en la sesión. \n	Para obtener más información sobre los requisitos y restricciones\, consulte esta guía. \n	Haz clic en “Registrarme” para conocer más sobre este evento. Por favor\, usa el correo vinculado a tu cuenta del HP Partner Portal y/o incluye tu HP Learner ID en el formulario de registro. \n  \nPodrás elegir las sesiones a las que quieres asistir o participar en todo el evento. Al registrarte\, recibirás un correo de confirmación de support@hpamplifyelevate.com con el enlace al evento y un marcador de calendario a tus sesiones seleccionadas. Guarda estos marcadores en tu calendario. \n  \nHabrá premios para quienes asistan a los entrenamientos y participen activamente en los Q&A. \n  \n¡Te esperamos con mucho entusiasmo! \n			\n							Regístrame Aquí\n					\n				\n	Bienvenido a HP Amplify Elevate – LATAM Sesión en Español \nImpulsando el futuro juntos en Elevate 2025 \n	Durante este evento virtual\, presentaremos una agenda completa con contenido dinámico e interesante. Además\, podrás escuchar a líderes de HP y a nuestros valiosos socios estratégicos. A continuación encontrarás la lista completa de temas y descripciones de las sesiones para ayudarte a elegir a cuáles asistir. Juntos\, buscamos ampliar nuestro crecimiento y crear nuevas posibilidades para impulsar el futuro del trabajo. \n			\n							Descarga la Guía del Evento
URL:https://www.wtrade.com/event/hp-amplify-elevate-latam-sesion-en-espanol/
LOCATION:Web
CATEGORIES:Conference,Training,Webinars
ATTACH;FMTTYPE=image/jpeg:https://www.wtrade.com/wp-content/uploads/2025/04/HP-INC-WT-scaled.jpg
END:VEVENT
END:VCALENDAR