BEGIN:VCALENDAR
VERSION:2.0
PRODID:-//Westham Trade - ECPv6.15.20//NONSGML v1.0//EN
CALSCALE:GREGORIAN
METHOD:PUBLISH
X-WR-CALNAME:Westham Trade
X-ORIGINAL-URL:https://www.wtrade.com
X-WR-CALDESC:Events for Westham Trade
REFRESH-INTERVAL;VALUE=DURATION:PT1H
X-Robots-Tag:noindex
X-PUBLISHED-TTL:PT1H
BEGIN:VTIMEZONE
TZID:America/New_York
BEGIN:DAYLIGHT
TZOFFSETFROM:-0500
TZOFFSETTO:-0400
TZNAME:EDT
DTSTART:20240310T070000
END:DAYLIGHT
BEGIN:STANDARD
TZOFFSETFROM:-0400
TZOFFSETTO:-0500
TZNAME:EST
DTSTART:20241103T060000
END:STANDARD
BEGIN:DAYLIGHT
TZOFFSETFROM:-0500
TZOFFSETTO:-0400
TZNAME:EDT
DTSTART:20250309T070000
END:DAYLIGHT
BEGIN:STANDARD
TZOFFSETFROM:-0400
TZOFFSETTO:-0500
TZNAME:EST
DTSTART:20251102T060000
END:STANDARD
BEGIN:DAYLIGHT
TZOFFSETFROM:-0500
TZOFFSETTO:-0400
TZNAME:EDT
DTSTART:20260308T070000
END:DAYLIGHT
BEGIN:STANDARD
TZOFFSETFROM:-0400
TZOFFSETTO:-0500
TZNAME:EST
DTSTART:20261101T060000
END:STANDARD
END:VTIMEZONE
BEGIN:VEVENT
DTSTART;TZID=America/New_York:20250908T100000
DTEND;TZID=America/New_York:20250908T110000
DTSTAMP:20260424T071835
CREATED:20250828T193221Z
LAST-MODIFIED:20250828T193221Z
UID:5242-1757325600-1757329200@www.wtrade.com
SUMMARY:HPE Partner Power Hour: How MSPs Scale Profitability with HPE Compute Ops Management
DESCRIPTION:Join us on an upcoming HPE Partner Power Hour!  \n  \nPlease join us for an HPE Partner Power Hour webinar. These quarterly\, live events are specifically designed to provide you with a space where you can learn from HPE experts\, get your questions answered\, and elevate your sales. The training will be in the English language. \n	What to expect \n  \n\nSales training-These tailored sessions focus on sales strategies and opportunities.\nExpert guidance-Spend an hour with HPE subject matter experts.\nInteractive Q&A-Get quick\, specific answers to your most pressing questions.\nQuarterly sessions-Stay informed with the latest insights every quarter.\n\n	Why attend? \n  \nThese live sales training sessions are an excellent opportunity to connect with HPE experts and gain insights that will empower you to initiate impactful sales conversations. \n			\n							Register Here
URL:https://www.wtrade.com/event/hpe-partner-power-hour-how-msps-scale-profitability-with-hpe-compute-ops-management/
LOCATION:Web
CATEGORIES:Webinars
END:VEVENT
END:VCALENDAR